BEGIN:VCALENDAR
VERSION:2.0
PRODID:-//Viviane Gloor - ECPv6.15.20//NONSGML v1.0//EN
CALSCALE:GREGORIAN
METHOD:PUBLISH
X-ORIGINAL-URL:https://vivianegloor.ch
X-WR-CALDESC:Veranstaltungen für Viviane Gloor
REFRESH-INTERVAL;VALUE=DURATION:PT1H
X-Robots-Tag:noindex
X-PUBLISHED-TTL:PT1H
BEGIN:VTIMEZONE
TZID:Europe/Berlin
BEGIN:DAYLIGHT
TZOFFSETFROM:+0100
TZOFFSETTO:+0200
TZNAME:CEST
DTSTART:20240331T010000
END:DAYLIGHT
BEGIN:STANDARD
TZOFFSETFROM:+0200
TZOFFSETTO:+0100
TZNAME:CET
DTSTART:20241027T010000
END:STANDARD
BEGIN:DAYLIGHT
TZOFFSETFROM:+0100
TZOFFSETTO:+0200
TZNAME:CEST
DTSTART:20250330T010000
END:DAYLIGHT
BEGIN:STANDARD
TZOFFSETFROM:+0200
TZOFFSETTO:+0100
TZNAME:CET
DTSTART:20251026T010000
END:STANDARD
BEGIN:DAYLIGHT
TZOFFSETFROM:+0100
TZOFFSETTO:+0200
TZNAME:CEST
DTSTART:20260329T010000
END:DAYLIGHT
BEGIN:STANDARD
TZOFFSETFROM:+0200
TZOFFSETTO:+0100
TZNAME:CET
DTSTART:20261025T010000
END:STANDARD
BEGIN:DAYLIGHT
TZOFFSETFROM:+0100
TZOFFSETTO:+0200
TZNAME:CEST
DTSTART:20270328T010000
END:DAYLIGHT
BEGIN:STANDARD
TZOFFSETFROM:+0200
TZOFFSETTO:+0100
TZNAME:CET
DTSTART:20271031T010000
END:STANDARD
END:VTIMEZONE
BEGIN:VEVENT
DTSTART;TZID=Europe/Berlin:20260419T100000
DTEND;TZID=Europe/Berlin:20260419T110000
DTSTAMP:20260423T130717
CREATED:20260415T095712Z
LAST-MODIFIED:20260415T095712Z
UID:531-1776592800-1776596400@vivianegloor.ch
SUMMARY:Gottesdienst zum Abschluss des Konflagers
DESCRIPTION:U23-Gottesdienst
URL:https://vivianegloor.ch/event/gottesdienst-zum-abschluss-des-konflagers/
LOCATION:Reformierte Kirche Ägeri\, Alte Landstrasse 31\, Unterägeri\, 6314\, Schweiz
END:VEVENT
BEGIN:VEVENT
DTSTART;TZID=Europe/Berlin:20260410T101500
DTEND;TZID=Europe/Berlin:20260410T111500
DTSTAMP:20260423T130717
CREATED:20260415T095819Z
LAST-MODIFIED:20260415T095819Z
UID:534-1775816100-1775819700@vivianegloor.ch
SUMMARY:Gottesdienst im Altersheim
DESCRIPTION:
URL:https://vivianegloor.ch/event/gottesdienst-im-altersheim-5/
LOCATION:Altersheim Chlösterli\, Chlösterli 1\, Unterägeri\, 6314\, Schweiz
END:VEVENT
BEGIN:VEVENT
DTSTART;TZID=Europe/Berlin:20260405T110000
DTEND;TZID=Europe/Berlin:20260405T120000
DTSTAMP:20260423T130717
CREATED:20260415T095622Z
LAST-MODIFIED:20260415T095622Z
UID:529-1775386800-1775390400@vivianegloor.ch
SUMMARY:Gottesdienst am Ostersonntag
DESCRIPTION:Familiengottesdienst
URL:https://vivianegloor.ch/event/gottesdienst-am-ostersonntag-2/
LOCATION:Reformierte Kirche Ägeri\, Alte Landstrasse 31\, Unterägeri\, 6314\, Schweiz
END:VEVENT
BEGIN:VEVENT
DTSTART;TZID=Europe/Berlin:20260315T100000
DTEND;TZID=Europe/Berlin:20260315T110000
DTSTAMP:20260423T130717
CREATED:20260415T095523Z
LAST-MODIFIED:20260415T095523Z
UID:527-1773568800-1773572400@vivianegloor.ch
SUMMARY:Gottesdienst
DESCRIPTION:
URL:https://vivianegloor.ch/event/gottesdienst-18/
LOCATION:Reformierte Kirche Ägeri\, Alte Landstrasse 31\, Unterägeri\, 6314\, Schweiz
END:VEVENT
BEGIN:VEVENT
DTSTART;TZID=Europe/Berlin:20260307T180000
DTEND;TZID=Europe/Berlin:20260307T190000
DTSTAMP:20260423T130717
CREATED:20260415T095440Z
LAST-MODIFIED:20260415T095440Z
UID:524-1772906400-1772910000@vivianegloor.ch
SUMMARY:Musikalische Umrahmung GV
DESCRIPTION:GV des Vereins „Soland Chorkunst“
URL:https://vivianegloor.ch/event/musikalische-umrahmung-gv/
LOCATION:Kroneschüür\, Pfistergasse 42\, Zofingen\, 4800\, Switzerland
END:VEVENT
BEGIN:VEVENT
DTSTART;TZID=Europe/Berlin:20260305T193000
DTEND;TZID=Europe/Berlin:20260305T200000
DTSTAMP:20260423T130717
CREATED:20260415T095125Z
LAST-MODIFIED:20260415T095125Z
UID:521-1772739000-1772740800@vivianegloor.ch
SUMMARY:Konzert im Bündner Kunstmuseum
DESCRIPTION:Musikalische Sinnesreise durch die Ausstellung „Daniela Keiser.Oregano“ \nmit Lisa Arter (Gesang und Gitarre)
URL:https://vivianegloor.ch/event/konzert-im-buendner-kunstmuseum-2/
LOCATION:Bünder Kunstmuseum\, Bahnhofstrasse 35\, Chur\, 7000\, Switzerland
END:VEVENT
BEGIN:VEVENT
DTSTART;TZID=Europe/Berlin:20260305T180000
DTEND;TZID=Europe/Berlin:20260305T183000
DTSTAMP:20260423T130717
CREATED:20260415T094822Z
LAST-MODIFIED:20260415T094822Z
UID:518-1772733600-1772735400@vivianegloor.ch
SUMMARY:Konzert im Bündner Kunstmuseum
DESCRIPTION:Musikalische Sinnesreise durch die Ausstellung „Daniela Keiser. Oregano“
URL:https://vivianegloor.ch/event/konzert-im-buendner-kunstmuseum/
LOCATION:Bünder Kunstmuseum\, Bahnhofstrasse 35\, Chur\, 7000\, Switzerland
END:VEVENT
BEGIN:VEVENT
DTSTART;TZID=Europe/Berlin:20260222T100000
DTEND;TZID=Europe/Berlin:20260222T110000
DTSTAMP:20260423T130717
CREATED:20260415T094517Z
LAST-MODIFIED:20260415T094517Z
UID:516-1771754400-1771758000@vivianegloor.ch
SUMMARY:Gottesdienst zum Start der Konfirmand:innen
DESCRIPTION:
URL:https://vivianegloor.ch/event/gottesdienst-zum-start-der-konfirmandinnen/
LOCATION:Reformierte Kirche Ägeri\, Alte Landstrasse 31\, Unterägeri\, 6314\, Schweiz
END:VEVENT
BEGIN:VEVENT
DTSTART;TZID=Europe/Berlin:20260215T100000
DTEND;TZID=Europe/Berlin:20260215T110000
DTSTAMP:20260423T130717
CREATED:20260415T094410Z
LAST-MODIFIED:20260415T094410Z
UID:514-1771149600-1771153200@vivianegloor.ch
SUMMARY:Gottesdienst
DESCRIPTION:
URL:https://vivianegloor.ch/event/gottesdienst-17/
LOCATION:Reformierte Kirche Ägeri\, Alte Landstrasse 31\, Unterägeri\, 6314\, Schweiz
END:VEVENT
BEGIN:VEVENT
DTSTART;TZID=Europe/Berlin:20260118T100000
DTEND;TZID=Europe/Berlin:20260118T110000
DTSTAMP:20260423T130717
CREATED:20260415T093913Z
LAST-MODIFIED:20260415T093913Z
UID:512-1768730400-1768734000@vivianegloor.ch
SUMMARY:Einheitsgottesdienst
DESCRIPTION:Ökumenischer Gottesdienst mit 3 Chören
URL:https://vivianegloor.ch/event/einheitsgottesdienst/
LOCATION:Reformierte Kirche Ägeri\, Alte Landstrasse 31\, Unterägeri\, 6314\, Schweiz
END:VEVENT
BEGIN:VEVENT
DTSTART;TZID=Europe/Berlin:20260111T100000
DTEND;TZID=Europe/Berlin:20260111T110000
DTSTAMP:20260423T130717
CREATED:20260415T093755Z
LAST-MODIFIED:20260415T093755Z
UID:510-1768125600-1768129200@vivianegloor.ch
SUMMARY:Gottesdienst
DESCRIPTION:
URL:https://vivianegloor.ch/event/gottesdienst-16/
LOCATION:Reformierte Kirche Ägeri\, Alte Landstrasse 31\, Unterägeri\, 6314\, Schweiz
END:VEVENT
BEGIN:VEVENT
DTSTART;TZID=Europe/Berlin:20260109T101500
DTEND;TZID=Europe/Berlin:20260109T111500
DTSTAMP:20260423T130717
CREATED:20260415T093538Z
LAST-MODIFIED:20260415T093538Z
UID:506-1767953700-1767957300@vivianegloor.ch
SUMMARY:Gottesdienst im Altersheim
DESCRIPTION:
URL:https://vivianegloor.ch/event/gottesdienst-im-altersheim-4/
LOCATION:Altersheim Chlösterli\, Chlösterli 1\, Unterägeri\, 6314\, Schweiz
END:VEVENT
BEGIN:VEVENT
DTSTART;TZID=Europe/Berlin:20251225T100000
DTEND;TZID=Europe/Berlin:20251225T110000
DTSTAMP:20260423T130717
CREATED:20250903T172509Z
LAST-MODIFIED:20251207T220131Z
UID:482-1766656800-1766660400@vivianegloor.ch
SUMMARY:Weihnachtsgottesdienst
DESCRIPTION:
URL:https://vivianegloor.ch/event/weihnachtsgottesdienst/
LOCATION:Reformierte Kirche Ägeri\, Alte Landstrasse 31\, Unterägeri\, 6314\, Schweiz
END:VEVENT
BEGIN:VEVENT
DTSTART;TZID=Europe/Berlin:20251224T160000
DTEND;TZID=Europe/Berlin:20251224T170000
DTSTAMP:20260423T130717
CREATED:20251207T215116Z
LAST-MODIFIED:20251207T215116Z
UID:495-1766592000-1766595600@vivianegloor.ch
SUMMARY:Kinderweihnacht
DESCRIPTION:Gottesdienst mit den Kleinen
URL:https://vivianegloor.ch/event/kinderweihnacht/
LOCATION:Reformierte Kirche Ägeri\, Alte Landstrasse 31\, Unterägeri\, 6314\, Schweiz
END:VEVENT
BEGIN:VEVENT
DTSTART;TZID=Europe/Berlin:20251221T100000
DTEND;TZID=Europe/Berlin:20251221T110000
DTSTAMP:20260423T130717
CREATED:20250903T172411Z
LAST-MODIFIED:20251207T215530Z
UID:480-1766311200-1766314800@vivianegloor.ch
SUMMARY:Gottesdienst
DESCRIPTION:mit dem Gospelchor „Tears of Joy“
URL:https://vivianegloor.ch/event/gottesdienst-15/
LOCATION:Reformierte Kirche Ägeri\, Alte Landstrasse 31\, Unterägeri\, 6314\, Schweiz
END:VEVENT
BEGIN:VEVENT
DTSTART;TZID=Europe/Berlin:20251213T190000
DTEND;TZID=Europe/Berlin:20251213T223000
DTSTAMP:20260423T130717
CREATED:20250903T173151Z
LAST-MODIFIED:20251207T215315Z
UID:487-1765652400-1765665000@vivianegloor.ch
SUMMARY:Not Mozart
DESCRIPTION:Konzert in der Zentralwäscherei Zürich in Zusammenarbeit mit female classics \nIn verschiedenen Besetzungen erklingt ausschliesslich Musik von Komponistinnen! \nTickets via: \nhttps://eventfrog.ch/de/p/konzert/weitere-musikrichtungen/not-mozart-klassisches-konzert-mit-komponistinnen-im-fokus-7388178441034585632.html \n 
URL:https://vivianegloor.ch/event/not-mozart/
LOCATION:Zentralwäscherei Zürich\, Neue Hard 12\, Zürich\, 8005
END:VEVENT
BEGIN:VEVENT
DTSTART;TZID=Europe/Berlin:20251207T100000
DTEND;TZID=Europe/Berlin:20251207T110000
DTSTAMP:20260423T130717
CREATED:20250903T172238Z
LAST-MODIFIED:20250903T172238Z
UID:476-1765101600-1765105200@vivianegloor.ch
SUMMARY:Gottesdienst
DESCRIPTION:
URL:https://vivianegloor.ch/event/gottesdienst-14/
LOCATION:Reformierte Kirche Ägeri\, Alte Landstrasse 31\, Unterägeri\, 6314\, Schweiz
END:VEVENT
BEGIN:VEVENT
DTSTART;TZID=Europe/Berlin:20251123T100000
DTEND;TZID=Europe/Berlin:20251123T110000
DTSTAMP:20260423T130717
CREATED:20250903T172149Z
LAST-MODIFIED:20250903T172149Z
UID:474-1763892000-1763895600@vivianegloor.ch
SUMMARY:Gottesdienst
DESCRIPTION:
URL:https://vivianegloor.ch/event/gottesdienst-13/
LOCATION:Reformierte Kirche Ägeri\, Alte Landstrasse 31\, Unterägeri\, 6314\, Schweiz
END:VEVENT
BEGIN:VEVENT
DTSTART;TZID=Europe/Berlin:20251114T101500
DTEND;TZID=Europe/Berlin:20251114T111500
DTSTAMP:20260423T130717
CREATED:20250903T172111Z
LAST-MODIFIED:20250903T172111Z
UID:472-1763115300-1763118900@vivianegloor.ch
SUMMARY:Gottesdienst im Altersheim
DESCRIPTION:
URL:https://vivianegloor.ch/event/gottesdienst-im-altersheim-3/
LOCATION:Altersheim Chlösterli\, Chlösterli 1\, Unterägeri\, 6314\, Schweiz
END:VEVENT
BEGIN:VEVENT
DTSTART;TZID=Europe/Berlin:20251109T100000
DTEND;TZID=Europe/Berlin:20251109T110000
DTSTAMP:20260423T130717
CREATED:20250903T172013Z
LAST-MODIFIED:20250903T172013Z
UID:470-1762682400-1762686000@vivianegloor.ch
SUMMARY:Gottesdienst
DESCRIPTION:
URL:https://vivianegloor.ch/event/gottesdienst-12/
LOCATION:Reformierte Kirche Ägeri\, Alte Landstrasse 31\, Unterägeri\, 6314\, Schweiz
END:VEVENT
BEGIN:VEVENT
DTSTART;TZID=Europe/Berlin:20251102T100000
DTEND;TZID=Europe/Berlin:20251102T110000
DTSTAMP:20260423T130717
CREATED:20250903T171824Z
LAST-MODIFIED:20250903T171824Z
UID:468-1762077600-1762081200@vivianegloor.ch
SUMMARY:Gottesdienst
DESCRIPTION:
URL:https://vivianegloor.ch/event/gottesdienst-11/
LOCATION:Reformierte Kirche Ägeri\, Alte Landstrasse 31\, Unterägeri\, 6314\, Schweiz
END:VEVENT
BEGIN:VEVENT
DTSTART;TZID=Europe/Berlin:20251023T200000
DTEND;TZID=Europe/Berlin:20251023T213000
DTSTAMP:20260423T130717
CREATED:20250903T172849Z
LAST-MODIFIED:20250903T173628Z
UID:484-1761249600-1761255000@vivianegloor.ch
SUMMARY:Klassik Kissa - Solokonzert
DESCRIPTION:Start meiner eigenen Konzertreihe „Klassik Kissa“ im Hidén Harlekin in Zug \nEin Abend mit klassischer Klaviermusik in gemütlichem Ambiente – sei dabei!
URL:https://vivianegloor.ch/event/klassik-kissa-solokonzert/
LOCATION:Hidén Harlekin\, Bahnhofstrasse 30\, Zug\, 6300
END:VEVENT
BEGIN:VEVENT
DTSTART;TZID=Europe/Berlin:20251017T190000
DTEND;TZID=Europe/Berlin:20251017T200000
DTSTAMP:20260423T130717
CREATED:20251207T215005Z
LAST-MODIFIED:20251207T215005Z
UID:492-1760727600-1760731200@vivianegloor.ch
SUMMARY:Sinfonia in XX
DESCRIPTION:Konzert mit Violine und Klavier \nMusik von Komponistinnen: Amy Beach\, Elsa Calcagno\, Nathalie Lässer\, Dora Pejačević u.v.m.
URL:https://vivianegloor.ch/event/sinfonia-in-xx/
LOCATION:Palass Zofingen\, Pfistergasse 54\, Zofingen\, 4800\, Switzerland
END:VEVENT
BEGIN:VEVENT
DTSTART;TZID=Europe/Berlin:20251010T101500
DTEND;TZID=Europe/Berlin:20251010T111500
DTSTAMP:20260423T130717
CREATED:20250903T171701Z
LAST-MODIFIED:20250903T171701Z
UID:466-1760091300-1760094900@vivianegloor.ch
SUMMARY:Gottesdienst im Altersheim
DESCRIPTION:
URL:https://vivianegloor.ch/event/gottesdienst-im-altersheim-2/
LOCATION:Altersheim Chlösterli\, Chlösterli 1\, Unterägeri\, 6314\, Schweiz
END:VEVENT
BEGIN:VEVENT
DTSTART;TZID=Europe/Berlin:20251007T163000
DTEND;TZID=Europe/Berlin:20251007T173000
DTSTAMP:20260423T130717
CREATED:20250903T171546Z
LAST-MODIFIED:20250903T171546Z
UID:463-1759854600-1759858200@vivianegloor.ch
SUMMARY:Gottesdienst im Altersheim
DESCRIPTION:
URL:https://vivianegloor.ch/event/gottesdienst-im-altersheim/
LOCATION:Zentrum Breiten\, Breiten 6\, Oberägeri\, 6315
END:VEVENT
BEGIN:VEVENT
DTSTART;TZID=Europe/Berlin:20250928T180000
DTEND;TZID=Europe/Berlin:20250928T190000
DTSTAMP:20260423T130717
CREATED:20250903T171329Z
LAST-MODIFIED:20250903T171329Z
UID:461-1759082400-1759086000@vivianegloor.ch
SUMMARY:Abendgottesdienst zum Jahreszeitenwechsel
DESCRIPTION:
URL:https://vivianegloor.ch/event/abendgottesdienst-zum-jahreszeitenwechsel/
LOCATION:Reformierte Kirche Ägeri\, Alte Landstrasse 31\, Unterägeri\, 6314\, Schweiz
END:VEVENT
BEGIN:VEVENT
DTSTART;TZID=Europe/Berlin:20250921T100000
DTEND;TZID=Europe/Berlin:20250921T110000
DTSTAMP:20260423T130717
CREATED:20250903T171223Z
LAST-MODIFIED:20250903T171223Z
UID:459-1758448800-1758452400@vivianegloor.ch
SUMMARY:Gottesdienst
DESCRIPTION:
URL:https://vivianegloor.ch/event/gottesdienst-10/
LOCATION:Reformierte Kirche Ägeri\, Alte Landstrasse 31\, Unterägeri\, 6314\, Schweiz
END:VEVENT
BEGIN:VEVENT
DTSTART;TZID=Europe/Berlin:20250914T100000
DTEND;TZID=Europe/Berlin:20250914T110000
DTSTAMP:20260423T130717
CREATED:20250903T170912Z
LAST-MODIFIED:20250903T170912Z
UID:456-1757844000-1757847600@vivianegloor.ch
SUMMARY:Gottesdienst
DESCRIPTION:
URL:https://vivianegloor.ch/event/gottesdienst-9/
LOCATION:Reformierte Kirche Ägeri\, Alte Landstrasse 31\, Unterägeri\, 6314\, Schweiz
END:VEVENT
BEGIN:VEVENT
DTSTART;VALUE=DATE:20250906
DTEND;VALUE=DATE:20250907
DTSTAMP:20260423T130717
CREATED:20250203T114120Z
LAST-MODIFIED:20250203T114120Z
UID:425-1757116800-1757203199@vivianegloor.ch
SUMMARY:Hochzeit
DESCRIPTION:privater Anlass
URL:https://vivianegloor.ch/event/hochzeit-4/
END:VEVENT
BEGIN:VEVENT
DTSTART;VALUE=DATE:20250823
DTEND;VALUE=DATE:20250824
DTSTAMP:20260423T130717
CREATED:20250203T114043Z
LAST-MODIFIED:20250203T114043Z
UID:423-1755907200-1755993599@vivianegloor.ch
SUMMARY:Hochzeit
DESCRIPTION:privater Anlass
URL:https://vivianegloor.ch/event/hochzeit-3/
END:VEVENT
END:VCALENDAR